BEGIN:VCALENDAR
VERSION:2.0
PRODID:-//Tremmen - ECPv6.15.20//NONSGML v1.0//EN
CALSCALE:GREGORIAN
METHOD:PUBLISH
X-ORIGINAL-URL:https://tremmen.de
X-WR-CALDESC:Veranstaltungen für Tremmen
REFRESH-INTERVAL;VALUE=DURATION:PT1H
X-Robots-Tag:noindex
X-PUBLISHED-TTL:PT1H
BEGIN:VTIMEZONE
TZID:Europe/Berlin
BEGIN:DAYLIGHT
TZOFFSETFROM:+0100
TZOFFSETTO:+0200
TZNAME:CEST
DTSTART:20250330T010000
END:DAYLIGHT
BEGIN:STANDARD
TZOFFSETFROM:+0200
TZOFFSETTO:+0100
TZNAME:CET
DTSTART:20251026T010000
END:STANDARD
BEGIN:DAYLIGHT
TZOFFSETFROM:+0100
TZOFFSETTO:+0200
TZNAME:CEST
DTSTART:20260329T010000
END:DAYLIGHT
BEGIN:STANDARD
TZOFFSETFROM:+0200
TZOFFSETTO:+0100
TZNAME:CET
DTSTART:20261025T010000
END:STANDARD
BEGIN:DAYLIGHT
TZOFFSETFROM:+0100
TZOFFSETTO:+0200
TZNAME:CEST
DTSTART:20270328T010000
END:DAYLIGHT
BEGIN:STANDARD
TZOFFSETFROM:+0200
TZOFFSETTO:+0100
TZNAME:CET
DTSTART:20271031T010000
END:STANDARD
END:VTIMEZONE
BEGIN:VEVENT
DTSTART;TZID=Europe/Berlin:20260113T170000
DTEND;TZID=Europe/Berlin:20260113T180000
DTSTAMP:20260423T141436
CREATED:20260106T114047Z
LAST-MODIFIED:20260106T114047Z
UID:1430-1768323600-1768327200@tremmen.de
SUMMARY:Nähkurs
DESCRIPTION:
URL:https://tremmen.de/veranstaltung/naehkurs/
LOCATION:Dorfgemeinschaftshaus\, Schulstraße 16\, Ketzin OT Tremmen\, 14669
END:VEVENT
BEGIN:VEVENT
DTSTART;TZID=Europe/Berlin:20260113T190000
DTEND;TZID=Europe/Berlin:20260113T200000
DTSTAMP:20260423T141436
CREATED:20260106T114207Z
LAST-MODIFIED:20260106T114207Z
UID:1434-1768330800-1768334400@tremmen.de
SUMMARY:Yoga und Pilates
DESCRIPTION:
URL:https://tremmen.de/veranstaltung/yoga-und-pilates-2/
LOCATION:Dorfgemeinschaftshaus\, Schulstraße 16\, Ketzin OT Tremmen\, 14669
END:VEVENT
END:VCALENDAR