BEGIN:VCALENDAR
VERSION:2.0
PRODID:-//Tremmen - ECPv6.15.20//NONSGML v1.0//EN
CALSCALE:GREGORIAN
METHOD:PUBLISH
X-WR-CALNAME:Tremmen
X-ORIGINAL-URL:https://tremmen.de
X-WR-CALDESC:Veranstaltungen für Tremmen
REFRESH-INTERVAL;VALUE=DURATION:PT1H
X-Robots-Tag:noindex
X-PUBLISHED-TTL:PT1H
BEGIN:VTIMEZONE
TZID:Europe/Berlin
BEGIN:DAYLIGHT
TZOFFSETFROM:+0100
TZOFFSETTO:+0200
TZNAME:CEST
DTSTART:20250330T010000
END:DAYLIGHT
BEGIN:STANDARD
TZOFFSETFROM:+0200
TZOFFSETTO:+0100
TZNAME:CET
DTSTART:20251026T010000
END:STANDARD
BEGIN:DAYLIGHT
TZOFFSETFROM:+0100
TZOFFSETTO:+0200
TZNAME:CEST
DTSTART:20260329T010000
END:DAYLIGHT
BEGIN:STANDARD
TZOFFSETFROM:+0200
TZOFFSETTO:+0100
TZNAME:CET
DTSTART:20261025T010000
END:STANDARD
BEGIN:DAYLIGHT
TZOFFSETFROM:+0100
TZOFFSETTO:+0200
TZNAME:CEST
DTSTART:20270328T010000
END:DAYLIGHT
BEGIN:STANDARD
TZOFFSETFROM:+0200
TZOFFSETTO:+0100
TZNAME:CET
DTSTART:20271031T010000
END:STANDARD
END:VTIMEZONE
BEGIN:VEVENT
DTSTART;TZID=Europe/Berlin:20260309T153000
DTEND;TZID=Europe/Berlin:20260309T163000
DTSTAMP:20260422T005623
CREATED:20260223T125819Z
LAST-MODIFIED:20260223T125819Z
UID:1531-1773070200-1773073800@tremmen.de
SUMMARY:Hobby Horsing
DESCRIPTION:
URL:https://tremmen.de/veranstaltung/hobby-horsing-29/
LOCATION:Dorfgemeinschaftshaus\, Schulstraße 16\, Ketzin OT Tremmen\, 14669
END:VEVENT
BEGIN:VEVENT
DTSTART;TZID=Europe/Berlin:20260309T170000
DTEND;TZID=Europe/Berlin:20260309T180000
DTSTAMP:20260422T005623
CREATED:20260302T114939Z
LAST-MODIFIED:20260302T115126Z
UID:1541-1773075600-1773079200@tremmen.de
SUMMARY:Boxtraining
DESCRIPTION:
URL:https://tremmen.de/veranstaltung/boxtraining-18/
LOCATION:Dorfgemeinschaftshaus\, Schulstraße 16\, Ketzin OT Tremmen\, 14669
END:VEVENT
END:VCALENDAR