BEGIN:VCALENDAR
VERSION:2.0
PRODID:-//Tremmen - ECPv6.15.20//NONSGML v1.0//EN
CALSCALE:GREGORIAN
METHOD:PUBLISH
X-WR-CALNAME:Tremmen
X-ORIGINAL-URL:https://tremmen.de
X-WR-CALDESC:Veranstaltungen für Tremmen
REFRESH-INTERVAL;VALUE=DURATION:PT1H
X-Robots-Tag:noindex
X-PUBLISHED-TTL:PT1H
BEGIN:VTIMEZONE
TZID:Europe/Berlin
BEGIN:DAYLIGHT
TZOFFSETFROM:+0100
TZOFFSETTO:+0200
TZNAME:CEST
DTSTART:20240331T010000
END:DAYLIGHT
BEGIN:STANDARD
TZOFFSETFROM:+0200
TZOFFSETTO:+0100
TZNAME:CET
DTSTART:20241027T010000
END:STANDARD
BEGIN:DAYLIGHT
TZOFFSETFROM:+0100
TZOFFSETTO:+0200
TZNAME:CEST
DTSTART:20250330T010000
END:DAYLIGHT
BEGIN:STANDARD
TZOFFSETFROM:+0200
TZOFFSETTO:+0100
TZNAME:CET
DTSTART:20251026T010000
END:STANDARD
BEGIN:DAYLIGHT
TZOFFSETFROM:+0100
TZOFFSETTO:+0200
TZNAME:CEST
DTSTART:20260329T010000
END:DAYLIGHT
BEGIN:STANDARD
TZOFFSETFROM:+0200
TZOFFSETTO:+0100
TZNAME:CET
DTSTART:20261025T010000
END:STANDARD
END:VTIMEZONE
BEGIN:VEVENT
DTSTART;TZID=Europe/Berlin:20251103T153000
DTEND;TZID=Europe/Berlin:20251103T163000
DTSTAMP:20260425T135339
CREATED:20251030T191646Z
LAST-MODIFIED:20251030T191646Z
UID:1335-1762183800-1762187400@tremmen.de
SUMMARY:Hobby Horsing
DESCRIPTION:
URL:https://tremmen.de/veranstaltung/hobby-horsing-20/
LOCATION:Park hinter dem Dorfgemeinschaftshaus\, Schulstraße 16\, Ketzin/Havel OT Tremmen\, 14669
END:VEVENT
BEGIN:VEVENT
DTSTART;TZID=Europe/Berlin:20251103T170000
DTEND;TZID=Europe/Berlin:20251103T180000
DTSTAMP:20260425T135339
CREATED:20251030T192032Z
LAST-MODIFIED:20251030T192032Z
UID:1343-1762189200-1762192800@tremmen.de
SUMMARY:Boxen
DESCRIPTION:
URL:https://tremmen.de/veranstaltung/boxen/
LOCATION:Dorfgemeinschaftshaus\, Schulstraße 16\, Ketzin OT Tremmen\, 14669
END:VEVENT
BEGIN:VEVENT
DTSTART;TZID=Europe/Berlin:20251105T160000
DTEND;TZID=Europe/Berlin:20251105T180000
DTSTAMP:20260425T135339
CREATED:20251030T192550Z
LAST-MODIFIED:20251030T192550Z
UID:1351-1762358400-1762365600@tremmen.de
SUMMARY:Küchenpartie
DESCRIPTION:
URL:https://tremmen.de/veranstaltung/kuechenpartie-2/
LOCATION:Dorfgemeinschaftshaus\, Schulstraße 16\, Ketzin OT Tremmen\, 14669
END:VEVENT
BEGIN:VEVENT
DTSTART;TZID=Europe/Berlin:20251105T170000
DTEND;TZID=Europe/Berlin:20251105T180000
DTSTAMP:20260425T135339
CREATED:20251030T192901Z
LAST-MODIFIED:20251030T192901Z
UID:1359-1762362000-1762365600@tremmen.de
SUMMARY:Nähen
DESCRIPTION:
URL:https://tremmen.de/veranstaltung/naehen-3/
LOCATION:Dorfgemeinschaftshaus\, Schulstraße 16\, Ketzin OT Tremmen\, 14669
END:VEVENT
BEGIN:VEVENT
DTSTART;TZID=Europe/Berlin:20251106T183000
DTEND;TZID=Europe/Berlin:20251106T200000
DTSTAMP:20260425T135339
CREATED:20251030T191349Z
LAST-MODIFIED:20251030T191349Z
UID:1333-1762453800-1762459200@tremmen.de
SUMMARY:Probelauf Holzbackofen
DESCRIPTION:
URL:https://tremmen.de/veranstaltung/probelauf-holzbackofen/
LOCATION:Park hinter dem Dorfgemeinschaftshaus\, Schulstraße 16\, Ketzin/Havel OT Tremmen\, 14669
END:VEVENT
BEGIN:VEVENT
DTSTART;TZID=Europe/Berlin:20251110T153000
DTEND;TZID=Europe/Berlin:20251110T163000
DTSTAMP:20260425T135339
CREATED:20251030T191720Z
LAST-MODIFIED:20251030T191720Z
UID:1337-1762788600-1762792200@tremmen.de
SUMMARY:Hobby Horsing
DESCRIPTION:
URL:https://tremmen.de/veranstaltung/hobby-horsing-21/
LOCATION:Park hinter dem Dorfgemeinschaftshaus\, Schulstraße 16\, Ketzin/Havel OT Tremmen\, 14669
END:VEVENT
BEGIN:VEVENT
DTSTART;TZID=Europe/Berlin:20251110T170000
DTEND;TZID=Europe/Berlin:20251110T180000
DTSTAMP:20260425T135339
CREATED:20251030T192245Z
LAST-MODIFIED:20251030T192245Z
UID:1345-1762794000-1762797600@tremmen.de
SUMMARY:Boxen
DESCRIPTION:
URL:https://tremmen.de/veranstaltung/boxen-2/
END:VEVENT
BEGIN:VEVENT
DTSTART;TZID=Europe/Berlin:20251112T120000
DTEND;TZID=Europe/Berlin:20251112T150000
DTSTAMP:20260425T135339
CREATED:20251030T193217Z
LAST-MODIFIED:20251030T193217Z
UID:1367-1762948800-1762959600@tremmen.de
SUMMARY:Mittagstisch
DESCRIPTION:
URL:https://tremmen.de/veranstaltung/mittagstisch-3/
LOCATION:Dorfgemeinschaftshaus\, Schulstraße 16\, Ketzin OT Tremmen\, 14669
END:VEVENT
BEGIN:VEVENT
DTSTART;TZID=Europe/Berlin:20251112T160000
DTEND;TZID=Europe/Berlin:20251112T180000
DTSTAMP:20260425T135339
CREATED:20251030T192624Z
LAST-MODIFIED:20251030T192624Z
UID:1353-1762963200-1762970400@tremmen.de
SUMMARY:Küchenpartie
DESCRIPTION:
URL:https://tremmen.de/veranstaltung/kuechenpartie-3/
LOCATION:Dorfgemeinschaftshaus\, Schulstraße 16\, Ketzin OT Tremmen\, 14669
END:VEVENT
BEGIN:VEVENT
DTSTART;TZID=Europe/Berlin:20251112T170000
DTEND;TZID=Europe/Berlin:20251112T180000
DTSTAMP:20260425T135339
CREATED:20251030T192956Z
LAST-MODIFIED:20251030T192956Z
UID:1361-1762966800-1762970400@tremmen.de
SUMMARY:Nähen
DESCRIPTION:
URL:https://tremmen.de/veranstaltung/naehen-4/
LOCATION:Dorfgemeinschaftshaus\, Schulstraße 16\, Ketzin OT Tremmen\, 14669
END:VEVENT
BEGIN:VEVENT
DTSTART;TZID=Europe/Berlin:20251114T163000
DTEND;TZID=Europe/Berlin:20251114T180000
DTSTAMP:20260425T135339
CREATED:20250107T201027Z
LAST-MODIFIED:20251114T085858Z
UID:863-1763137800-1763143200@tremmen.de
SUMMARY:Laternenfest
DESCRIPTION:
URL:https://tremmen.de/veranstaltung/laternenfest/
LOCATION:Kita Tremmen\, Heerstraße 14\, Ketzin/Havel OT Tremmen\, Brandenburg\, 14669\, Germany
END:VEVENT
BEGIN:VEVENT
DTSTART;TZID=Europe/Berlin:20251117T153000
DTEND;TZID=Europe/Berlin:20251117T163000
DTSTAMP:20260425T135339
CREATED:20251030T191900Z
LAST-MODIFIED:20251030T191900Z
UID:1339-1763393400-1763397000@tremmen.de
SUMMARY:Hobby Horsing
DESCRIPTION:
URL:https://tremmen.de/veranstaltung/hobby-horsing-22/
LOCATION:Park hinter dem Dorfgemeinschaftshaus\, Schulstraße 16\, Ketzin/Havel OT Tremmen\, 14669
END:VEVENT
BEGIN:VEVENT
DTSTART;TZID=Europe/Berlin:20251117T170000
DTEND;TZID=Europe/Berlin:20251117T180000
DTSTAMP:20260425T135339
CREATED:20251030T192342Z
LAST-MODIFIED:20251030T192342Z
UID:1347-1763398800-1763402400@tremmen.de
SUMMARY:Boxen
DESCRIPTION:
URL:https://tremmen.de/veranstaltung/boxen-3/
LOCATION:Dorfgemeinschaftshaus\, Schulstraße 16\, Ketzin OT Tremmen\, 14669
END:VEVENT
BEGIN:VEVENT
DTSTART;TZID=Europe/Berlin:20251119T160000
DTEND;TZID=Europe/Berlin:20251119T180000
DTSTAMP:20260425T135339
CREATED:20251030T192710Z
LAST-MODIFIED:20251030T192710Z
UID:1355-1763568000-1763575200@tremmen.de
SUMMARY:Küchenpartie
DESCRIPTION:
URL:https://tremmen.de/veranstaltung/kuechenpartie-4/
LOCATION:Dorfgemeinschaftshaus\, Schulstraße 16\, Ketzin OT Tremmen\, 14669
END:VEVENT
BEGIN:VEVENT
DTSTART;TZID=Europe/Berlin:20251119T170000
DTEND;TZID=Europe/Berlin:20251119T180000
DTSTAMP:20260425T135339
CREATED:20251030T193050Z
LAST-MODIFIED:20251030T193050Z
UID:1363-1763571600-1763575200@tremmen.de
SUMMARY:Nähen
DESCRIPTION:
URL:https://tremmen.de/veranstaltung/naehen-5/
LOCATION:Dorfgemeinschaftshaus\, Schulstraße 16\, Ketzin OT Tremmen\, 14669
END:VEVENT
BEGIN:VEVENT
DTSTART;TZID=Europe/Berlin:20251120T170000
DTEND;TZID=Europe/Berlin:20251120T180000
DTSTAMP:20260425T135339
CREATED:20251030T193316Z
LAST-MODIFIED:20251030T193316Z
UID:1369-1763658000-1763661600@tremmen.de
SUMMARY:Leseomi
DESCRIPTION:
URL:https://tremmen.de/veranstaltung/leseomi-2/
LOCATION:Dorfgemeinschaftshaus\, Schulstraße 16\, Ketzin OT Tremmen\, 14669
END:VEVENT
BEGIN:VEVENT
DTSTART;TZID=Europe/Berlin:20251120T180000
DTEND;TZID=Europe/Berlin:20251120T190000
DTSTAMP:20260425T135339
CREATED:20250107T195902Z
LAST-MODIFIED:20251114T084817Z
UID:851-1763661600-1763665200@tremmen.de
SUMMARY:Sitzung des Ortsbeirates Tremmen
DESCRIPTION:
URL:https://tremmen.de/veranstaltung/sitzung-des-ortsbeirates-tremmen-8/
LOCATION:Dorfgemeinschaftshaus\, Schulstraße 16\, Ketzin OT Tremmen\, 14669
END:VEVENT
BEGIN:VEVENT
DTSTART;TZID=Europe/Berlin:20251122T150000
DTEND;TZID=Europe/Berlin:20251122T170000
DTSTAMP:20260425T135339
CREATED:20251030T193356Z
LAST-MODIFIED:20251030T193356Z
UID:1371-1763823600-1763830800@tremmen.de
SUMMARY:Schach
DESCRIPTION:
URL:https://tremmen.de/veranstaltung/schach/
LOCATION:Dorfgemeinschaftshaus\, Schulstraße 16\, Ketzin OT Tremmen\, 14669
END:VEVENT
BEGIN:VEVENT
DTSTART;TZID=Europe/Berlin:20251124T153000
DTEND;TZID=Europe/Berlin:20251124T163000
DTSTAMP:20260425T135339
CREATED:20251030T191929Z
LAST-MODIFIED:20251030T191929Z
UID:1341-1763998200-1764001800@tremmen.de
SUMMARY:Hobby Horsing
DESCRIPTION:
URL:https://tremmen.de/veranstaltung/hobby-horsing-23/
LOCATION:Park hinter dem Dorfgemeinschaftshaus\, Schulstraße 16\, Ketzin/Havel OT Tremmen\, 14669
END:VEVENT
BEGIN:VEVENT
DTSTART;TZID=Europe/Berlin:20251124T170000
DTEND;TZID=Europe/Berlin:20251124T180000
DTSTAMP:20260425T135339
CREATED:20251030T192411Z
LAST-MODIFIED:20251030T192411Z
UID:1349-1764003600-1764007200@tremmen.de
SUMMARY:Boxen
DESCRIPTION:
URL:https://tremmen.de/veranstaltung/boxen-4/
LOCATION:Dorfgemeinschaftshaus\, Schulstraße 16\, Ketzin OT Tremmen\, 14669
END:VEVENT
BEGIN:VEVENT
DTSTART;TZID=Europe/Berlin:20251125T183000
DTEND;TZID=Europe/Berlin:20251125T193000
DTSTAMP:20260425T135339
CREATED:20251030T193455Z
LAST-MODIFIED:20251030T193455Z
UID:1373-1764095400-1764099000@tremmen.de
SUMMARY:Yoga
DESCRIPTION:
URL:https://tremmen.de/veranstaltung/yoga-2/
LOCATION:Dorfgemeinschaftshaus\, Schulstraße 16\, Ketzin OT Tremmen\, 14669
END:VEVENT
BEGIN:VEVENT
DTSTART;TZID=Europe/Berlin:20251126T160000
DTEND;TZID=Europe/Berlin:20251126T180000
DTSTAMP:20260425T135339
CREATED:20251030T192741Z
LAST-MODIFIED:20251030T192741Z
UID:1357-1764172800-1764180000@tremmen.de
SUMMARY:Küchenpartie
DESCRIPTION:
URL:https://tremmen.de/veranstaltung/kuechenpartie-5/
LOCATION:Dorfgemeinschaftshaus\, Schulstraße 16\, Ketzin OT Tremmen\, 14669
END:VEVENT
BEGIN:VEVENT
DTSTART;TZID=Europe/Berlin:20251126T170000
DTEND;TZID=Europe/Berlin:20251126T180000
DTSTAMP:20260425T135339
CREATED:20251030T193117Z
LAST-MODIFIED:20251030T193117Z
UID:1365-1764176400-1764180000@tremmen.de
SUMMARY:Nähen
DESCRIPTION:
URL:https://tremmen.de/veranstaltung/naehen-6/
LOCATION:Dorfgemeinschaftshaus\, Schulstraße 16\, Ketzin OT Tremmen\, 14669
END:VEVENT
BEGIN:VEVENT
DTSTART;TZID=Europe/Berlin:20251128T150000
DTEND;TZID=Europe/Berlin:20251128T160000
DTSTAMP:20260425T135339
CREATED:20251030T191243Z
LAST-MODIFIED:20251030T191255Z
UID:1331-1764342000-1764345600@tremmen.de
SUMMARY:Weihnachtsbaum schmücken
DESCRIPTION:https://tremmen.de/wp-content/uploads/2025/10/Weihnachtsbaum2025.mp4
URL:https://tremmen.de/veranstaltung/weihnachtsbaum-schmuecken-2/
END:VEVENT
BEGIN:VEVENT
DTSTART;TZID=Europe/Berlin:20251129T140000
DTEND;TZID=Europe/Berlin:20251129T190000
DTSTAMP:20260425T135339
CREATED:20250107T201108Z
LAST-MODIFIED:20251114T085931Z
UID:865-1764424800-1764442800@tremmen.de
SUMMARY:Weihnachtsmarkt
DESCRIPTION:
URL:https://tremmen.de/veranstaltung/weihnachtsmarkt/
LOCATION:Park hinter dem Dorfgemeinschaftshaus\, Schulstraße 16\, Ketzin/Havel OT Tremmen\, 14669
END:VEVENT
END:VCALENDAR