BEGIN:VCALENDAR
VERSION:2.0
PRODID:-//Tremmen - ECPv6.15.20//NONSGML v1.0//EN
CALSCALE:GREGORIAN
METHOD:PUBLISH
X-WR-CALNAME:Tremmen
X-ORIGINAL-URL:https://tremmen.de
X-WR-CALDESC:Veranstaltungen für Tremmen
REFRESH-INTERVAL;VALUE=DURATION:PT1H
X-Robots-Tag:noindex
X-PUBLISHED-TTL:PT1H
BEGIN:VTIMEZONE
TZID:Europe/Berlin
BEGIN:DAYLIGHT
TZOFFSETFROM:+0100
TZOFFSETTO:+0200
TZNAME:CEST
DTSTART:20250330T010000
END:DAYLIGHT
BEGIN:STANDARD
TZOFFSETFROM:+0200
TZOFFSETTO:+0100
TZNAME:CET
DTSTART:20251026T010000
END:STANDARD
BEGIN:DAYLIGHT
TZOFFSETFROM:+0100
TZOFFSETTO:+0200
TZNAME:CEST
DTSTART:20260329T010000
END:DAYLIGHT
BEGIN:STANDARD
TZOFFSETFROM:+0200
TZOFFSETTO:+0100
TZNAME:CET
DTSTART:20261025T010000
END:STANDARD
BEGIN:DAYLIGHT
TZOFFSETFROM:+0100
TZOFFSETTO:+0200
TZNAME:CEST
DTSTART:20270328T010000
END:DAYLIGHT
BEGIN:STANDARD
TZOFFSETFROM:+0200
TZOFFSETTO:+0100
TZNAME:CET
DTSTART:20271031T010000
END:STANDARD
END:VTIMEZONE
BEGIN:VEVENT
DTSTART;VALUE=DATE:20260501
DTEND;VALUE=DATE:20260502
DTSTAMP:20260421T231541
CREATED:20260128T201754Z
LAST-MODIFIED:20260410T074732Z
UID:1483-1777593600-1777679999@tremmen.de
SUMMARY:Maibaum aufstellen
DESCRIPTION:
URL:https://tremmen.de/veranstaltung/maibaum-aufstellen/
END:VEVENT
BEGIN:VEVENT
DTSTART;TZID=Europe/Berlin:20260502T140000
DTEND;TZID=Europe/Berlin:20260502T180000
DTSTAMP:20260421T231541
CREATED:20260410T080552Z
LAST-MODIFIED:20260410T080739Z
UID:1587-1777730400-1777744800@tremmen.de
SUMMARY:Offenes Atelier
DESCRIPTION:
URL:https://tremmen.de/veranstaltung/offenes-atelier/
LOCATION:MM ceramic\, Schulstraße 10c\, Ketzin/Havel OT Tremmen\, 14669
END:VEVENT
BEGIN:VEVENT
DTSTART;TZID=Europe/Berlin:20260503T110000
DTEND;TZID=Europe/Berlin:20260503T180000
DTSTAMP:20260421T231541
CREATED:20260410T080611Z
LAST-MODIFIED:20260410T080724Z
UID:1589-1777806000-1777831200@tremmen.de
SUMMARY:Offenes Atelier
DESCRIPTION:
URL:https://tremmen.de/veranstaltung/offenes-atelier-2/
LOCATION:MM ceramic\, Schulstraße 10c\, Ketzin/Havel OT Tremmen\, 14669
END:VEVENT
BEGIN:VEVENT
DTSTART;TZID=Europe/Berlin:20260509T150000
DTEND;TZID=Europe/Berlin:20260509T170000
DTSTAMP:20260421T231541
CREATED:20260106T112321Z
LAST-MODIFIED:20260106T112321Z
UID:1409-1778338800-1778346000@tremmen.de
SUMMARY:Schach
DESCRIPTION:
URL:https://tremmen.de/veranstaltung/schach-6/
LOCATION:Dorfgemeinschaftshaus\, Schulstraße 16\, Ketzin OT Tremmen\, 14669
END:VEVENT
BEGIN:VEVENT
DTSTART;VALUE=DATE:20260517
DTEND;VALUE=DATE:20260518
DTSTAMP:20260421T231541
CREATED:20260128T201831Z
LAST-MODIFIED:20260128T201831Z
UID:1485-1778976000-1779062399@tremmen.de
SUMMARY:Internationaler Museumstag
DESCRIPTION:
URL:https://tremmen.de/veranstaltung/internationaler-museumstag/
END:VEVENT
BEGIN:VEVENT
DTSTART;TZID=Europe/Berlin:20260523T140000
DTEND;TZID=Europe/Berlin:20260523T160000
DTSTAMP:20260421T231541
CREATED:20260128T201523Z
LAST-MODIFIED:20260128T201538Z
UID:1477-1779544800-1779552000@tremmen.de
SUMMARY:2. Tremmener Frühlingsspaziergang
DESCRIPTION:
URL:https://tremmen.de/veranstaltung/2-tremmener-fruehlingsspaziergang/
LOCATION:Dorfgemeinschaftshaus\, Schulstraße 16\, Ketzin OT Tremmen\, 14669
END:VEVENT
BEGIN:VEVENT
DTSTART;TZID=Europe/Berlin:20260531T100000
DTEND;TZID=Europe/Berlin:20260531T170000
DTSTAMP:20260421T231541
CREATED:20260128T201639Z
LAST-MODIFIED:20260410T080013Z
UID:1479-1780221600-1780246800@tremmen.de
SUMMARY:Hofflohmarkt
DESCRIPTION:
URL:https://tremmen.de/veranstaltung/hofflohmarkt-2/
END:VEVENT
END:VCALENDAR